BEGIN:VCALENDAR
VERSION:2.0
PRODID:-//Tukios.com/
BEGIN:VEVENT
UID:55303499-f17e-4393-b406-c6cd1d5bfcaa@www.aldenwaggoner.com
DTSTAMP:20260423T062809Z
DTSTART:20260506T213000Z
DTEND:20260506T223000Z
SUMMARY:Celebration of Life
DESCRIPTION:Celebration of Life: Following graveside service at Jack's 
	house
URL:https://www.aldenwaggoner.com/obituaries/john-mcgonagle-jr
LOCATION:Jack's House 3605 N. Wadsworth  Boise ID 83704
GEO:43.6376455;-116.2926383
END:VEVENT
END:VCALENDAR