BEGIN:VCALENDAR
VERSION:2.0
PRODID:-//Tukios.com/
BEGIN:VEVENT
UID:460fd6e9-5c16-4064-abea-7e1a6ea41653@www.aldenwaggoner.com
DTSTAMP:20260423T061139Z
DTSTART:20260506T203000Z
DTEND:20260506T213000Z
SUMMARY:Graveside  Inurnment
DESCRIPTION:
URL:https://www.aldenwaggoner.com/obituaries/john-mcgonagle-jr
LOCATION: 9600 Hill Rd  Boise ID 83714
GEO:43.6943275;-116.3119323
END:VEVENT
END:VCALENDAR