BEGIN:VCALENDAR
VERSION:2.0
PRODID:-//Tukios.com/
BEGIN:VEVENT
UID:f8f62c86-195e-4e75-91c5-229d12c5d8ec@www.aldenwaggoner.com
DTSTAMP:20260419T154901Z
DTSTART:20260419T220000Z
DTEND:20260420T010000Z
SUMMARY:Celebration of Life
DESCRIPTION:
URL:https://www.aldenwaggoner.com/obituaries/gary-koehmstedt
LOCATION:Meridian Senior Center 1920 North Records Way  Meridian ID 83642
GEO:43.6231121;-116.3455334
END:VEVENT
END:VCALENDAR