BEGIN:VCALENDAR
VERSION:2.0
PRODID:-//Tukios.com/
BEGIN:VEVENT
UID:f1e54e8a-8f12-40f3-9c28-1d945674e98d@www.aldenwaggoner.com
DTSTAMP:20260424T004116Z
DTSTART:20260426T220000Z
DTEND:20260427T000000Z
SUMMARY:Viewing
DESCRIPTION:
URL:https://www.aldenwaggoner.com/obituaries/carma-elam
LOCATION:Alden-Waggoner Funeral Chapel 5400 West Fairview Avenue  Boise 
	ID 83706
GEO:43.6195002;-116.2488885
END:VEVENT
END:VCALENDAR