BEGIN:VCALENDAR
VERSION:2.0
PRODID:-//Tukios.com/
BEGIN:VEVENT
UID:b649a70f-7ab7-40fb-b344-c41733072719@www.aldenwaggoner.com
DTSTAMP:20260424T004237Z
DTSTART:20260427T170000Z
DTEND:20260427T180000Z
SUMMARY:Graveside Service
DESCRIPTION:
URL:https://www.aldenwaggoner.com/obituaries/carma-elam
LOCATION:Morris Hill Cemetery 317 N Latah St  Boise ID 83702
GEO:43.6073642;-116.2304213
END:VEVENT
END:VCALENDAR